BEGIN:VCALENDAR
VERSION:2.0
PRODID:-//hacksw/handcal//NONSGML v1.0//EN
BEGIN:VEVENT
SUMMARY:Fete du Club
UID:9c284d35-6417-439e-bc4f-2b5630a706c8
DTSTART:20261003T220000Z
DTEND:20261004T220000Z
LOCATION:Localisation   
CATEGORIES:Sportif
STATUS:
URL;VALUE=URI:https://www.asgolfsaintlaurent.com/evenements/2026/10/04/fete-du-club-2433941
END:VEVENT
END:VCALENDAR
