BEGIN:VCALENDAR
VERSION:2.0
PRODID:-//hacksw/handcal//NONSGML v1.0//EN
BEGIN:VEVENT
SUMMARY:Sortie feminine Cice-Blossac
UID:1e1f3ff8-5efe-4abf-a734-2eac33198bd5
DTSTART:20260928T220000Z
DTEND:20260929T220000Z
LOCATION:Localisation   
CATEGORIES:Sportif
STATUS:
URL;VALUE=URI:https://www.asgolfsaintlaurent.com/evenements/2026/09/29/sortie-feminine-cice-blossac-2444154
END:VEVENT
END:VCALENDAR
