BEGIN:VCALENDAR
VERSION:2.0
PRODID:-//hacksw/handcal//NONSGML v1.0//EN
BEGIN:VEVENT
SUMMARY:Competition La Terrasse
UID:0d7acb3f-db2a-404e-81a6-1a54a9718953
DTSTART:20260919T220000Z
DTEND:20260920T220000Z
LOCATION:Localisation   
CATEGORIES:Sportif
STATUS:
URL;VALUE=URI:https://www.asgolfsaintlaurent.com/evenements/2026/09/20/competition-la-terrasse-2433939
END:VEVENT
END:VCALENDAR
