BEGIN:VCALENDAR
VERSION:2.0
PRODID:-//hacksw/handcal//NONSGML v1.0//EN
BEGIN:VEVENT
SUMMARY:Competition Tangy Design
UID:96438d8a-b7e4-4cfc-859d-f924a45b4113
DTSTART:20260912T220000Z
DTEND:20260913T220000Z
LOCATION:Localisation   
CATEGORIES:Sportif
STATUS:
URL;VALUE=URI:https://www.asgolfsaintlaurent.com/evenements/2026/09/13/competition-tangy-design-2433937
END:VEVENT
END:VCALENDAR
