BEGIN:VCALENDAR
VERSION:2.0
PRODID:-//hacksw/handcal//NONSGML v1.0//EN
BEGIN:VEVENT
SUMMARY:Finale IC feminin Rhuys Kerver
UID:893c9702-15f6-4929-8bee-951e8b491364
DTSTART:20260909T220000Z
DTEND:20260910T220000Z
LOCATION:Localisation   
CATEGORIES:Sportif
STATUS:
URL;VALUE=URI:https://www.asgolfsaintlaurent.com/evenements/2026/09/10/finale-ic-feminin-rhuys-kerver-2444152
END:VEVENT
END:VCALENDAR
