BEGIN:VCALENDAR
VERSION:2.0
PRODID:-//hacksw/handcal//NONSGML v1.0//EN
BEGIN:VEVENT
SUMMARY:Grand Prix de Saint Laurent
UID:ccbc53eb-7552-4a99-a73e-ec7795c913b0
DTSTART:20260904T220000Z
DTEND:20260906T220000Z
LOCATION:Localisation   
CATEGORIES:Sportif
STATUS:
URL;VALUE=URI:https://www.asgolfsaintlaurent.com/evenements/2026/09/05/grand-prix-de-saint-laurent-2433936
END:VEVENT
END:VCALENDAR
