BEGIN:VCALENDAR
VERSION:2.0
PRODID:-//hacksw/handcal//NONSGML v1.0//EN
BEGIN:VEVENT
SUMMARY:Les mardis de l'ete
UID:b4b7354f-a9dc-4f67-847f-dff29d5e4d2b
DTSTART:20260817T220000Z
DTEND:20260818T220000Z
LOCATION:Localisation   
CATEGORIES:Sportif
STATUS:
URL;VALUE=URI:https://www.asgolfsaintlaurent.com/evenements/2026/08/18/les-mardis-de-lete-2433934
END:VEVENT
END:VCALENDAR
