BEGIN:VCALENDAR
VERSION:2.0
PRODID:-//hacksw/handcal//NONSGML v1.0//EN
BEGIN:VEVENT
SUMMARY:Les mardis de l'ete + SWC
UID:89e01526-c2d0-4fad-b78e-f6c05fd17c98
DTSTART:20260803T220000Z
DTEND:20260804T220000Z
LOCATION:Localisation   
CATEGORIES:Sportif
STATUS:
URL;VALUE=URI:https://www.asgolfsaintlaurent.com/evenements/2026/08/04/les-mardis-de-lete-swc-2433924
END:VEVENT
END:VCALENDAR
