BEGIN:VCALENDAR
VERSION:2.0
PRODID:-//hacksw/handcal//NONSGML v1.0//EN
BEGIN:VEVENT
SUMMARY:Competition Piscines JMS
UID:37ade3ab-0374-44ff-8988-7f4468c5abed
DTSTART:20260718T220000Z
DTEND:20260719T220000Z
LOCATION:Localisation   
CATEGORIES:Sportif
STATUS:
URL;VALUE=URI:https://www.asgolfsaintlaurent.com/evenements/2026/07/19/competition-piscines-jms-2433928
END:VEVENT
END:VCALENDAR
