BEGIN:VCALENDAR
VERSION:2.0
PRODID:-//hacksw/handcal//NONSGML v1.0//EN
BEGIN:VEVENT
SUMMARY:Les mardis de l'ete + SWC
UID:1716902b-4a17-4f62-ba02-eb7a1630ede1
DTSTART:20260713T220000Z
DTEND:20260714T220000Z
LOCATION:Localisation   
CATEGORIES:Sportif
STATUS:
URL;VALUE=URI:https://www.asgolfsaintlaurent.com/evenements/2026/07/14/les-mardis-de-lete-swc-2433926
END:VEVENT
END:VCALENDAR
