BEGIN:VCALENDAR
VERSION:2.0
PRODID:-//hacksw/handcal//NONSGML v1.0//EN
BEGIN:VEVENT
SUMMARY:Competition Trophee de Carnac
UID:96281a20-4a7c-4ba6-a401-161ae6aef395
DTSTART:20260711T220000Z
DTEND:20260712T220000Z
LOCATION:Localisation   
CATEGORIES:Sportif
STATUS:
URL;VALUE=URI:https://www.asgolfsaintlaurent.com/evenements/2026/07/12/competition-trophee-de-carnac-2433927
END:VEVENT
END:VCALENDAR
