BEGIN:VCALENDAR
VERSION:2.0
PRODID:-//hacksw/handcal//NONSGML v1.0//EN
BEGIN:VEVENT
SUMMARY:Competition Bagatelle
UID:7003dfe6-971e-44cf-ab04-ddf45040f48d
DTSTART:20260704T220000Z
DTEND:20260705T220000Z
LOCATION:Localisation   
CATEGORIES:Sportif
STATUS:
URL;VALUE=URI:https://www.asgolfsaintlaurent.com/evenements/2026/07/05/competition-bagatelle-2433918
END:VEVENT
END:VCALENDAR
