BEGIN:VCALENDAR
VERSION:2.0
PRODID:-//hacksw/handcal//NONSGML v1.0//EN
BEGIN:VEVENT
SUMMARY:Championnat de France Dames par equipes golf de Savenay 3e division
UID:23695990-b1f5-4e6e-83f8-827bb63daec8
DTSTART:20260521T220000Z
DTEND:20260525T220000Z
LOCATION:Localisation   
CATEGORIES:Sportif
STATUS:
URL;VALUE=URI:https://www.asgolfsaintlaurent.com/evenements/2026/05/22/championnat-de-france-dames-par-equipes-golf-de-savenay-3e-division-2414835
END:VEVENT
END:VCALENDAR
