BEGIN:VCALENDAR
VERSION:2.0
PRODID:-//hacksw/handcal//NONSGML v1.0//EN
BEGIN:VEVENT
SUMMARY:Championnat de France Messieurs seniors 2 par equipes Golf de Dieppe 2e division
UID:5863aebd-639c-4bd6-bdc0-2c66fe351df2
DTSTART:20260513T220000Z
DTEND:20260517T220000Z
LOCATION:Localisation   
CATEGORIES:Sportif
STATUS:
URL;VALUE=URI:https://www.asgolfsaintlaurent.com/evenements/2026/05/14/championnat-de-france-messieurs-seniors-2-par-equipes-golf-de-dieppe-2e-division-2415279
END:VEVENT
END:VCALENDAR
