BEGIN:VCALENDAR
VERSION:2.0
PRODID:-//hacksw/handcal//NONSGML v1.0//EN
BEGIN:VEVENT
SUMMARY:Championnat de France Dames Seniors 2 par equipes golf de Haute Auvergne 1re division
UID:fd6ba459-a1ae-4b79-93dd-c2d262f4802c
DTSTART:20260512T220000Z
DTEND:20260517T220000Z
LOCATION:Localisation   
CATEGORIES:Sportif
STATUS:
URL;VALUE=URI:https://www.asgolfsaintlaurent.com/evenements/2026/05/13/championnat-de-france-dames-seniors-2-par-equipes-golf-de-haute-auvergne-1re-division-2414869
END:VEVENT
END:VCALENDAR
